BEGIN:VCALENDAR
VERSION:2.0
PRODID:-//ChamberMaster//Event Calendar 2.0//EN
METHOD:PUBLISH
X-PUBLISHED-TTL:P3D
REFRESH-INTERVAL:P3D
CALSCALE:GREGORIAN
BEGIN:VEVENT
DTSTART:20260507T213000Z
DTEND:20260507T233000Z
X-MICROSOFT-CDO-ALLDAYEVENT:FALSE
SUMMARY:Infinite Athletics Business After Hours
DESCRIPTION:Business After Hours at Infinite Athletics
X-ALT-DESC;FMTTYPE=text/html:Business After Hours at Infinite Athletics&nbsp\;&nbsp\;&nbsp\;&nbsp\;
LOCATION:4003 Hands Mill Hwy. York\, SC 29745
UID:e.3033.106
SEQUENCE:3
DTSTAMP:20260419T131519Z
URL:https://members.lakewyliechambersc.com/events/details/infinite-athletics-business-after-hours-106
END:VEVENT

END:VCALENDAR
