BEGIN:VCALENDAR
VERSION:2.0
PRODID:-//ChamberMaster//Event Calendar 2.0//EN
METHOD:PUBLISH
X-PUBLISHED-TTL:P3D
REFRESH-INTERVAL:P3D
CALSCALE:GREGORIAN
BEGIN:VEVENT
DTSTART:20260312T213000Z
DTEND:20260312T233000Z
X-MICROSOFT-CDO-ALLDAYEVENT:FALSE
SUMMARY:Karrus Homes Business After Hours
DESCRIPTION:Business After Hours\n\nHor d'oeuvres provided by Copper Premium Pub\n\nRaffles\, giveaways\, gift certificates and cash prizes
X-ALT-DESC;FMTTYPE=text/html:Business After Hours<br />\nHor d&#39\;oeuvres provided by Copper Premium Pub<br />\nRaffles\, giveaways\, gift certificates and cash prizes
LOCATION:4520 Charlotte Hwy. Lake Wylie\, SC 29710 (next to Copper Premium Pub)
UID:e.3033.102
SEQUENCE:3
DTSTAMP:20260419T131618Z
URL:https://members.lakewyliechambersc.com/events/details/karrus-homes-business-after-hours-102
END:VEVENT

END:VCALENDAR
