BEGIN:VCALENDAR
VERSION:2.0
PRODID:-//ChamberMaster//Event Calendar 2.0//EN
METHOD:PUBLISH
X-PUBLISHED-TTL:P3D
REFRESH-INTERVAL:P3D
CALSCALE:GREGORIAN
BEGIN:VEVENT
DTSTART:20260611T213000Z
DTEND:20260611T233000Z
X-MICROSOFT-CDO-ALLDAYEVENT:FALSE
SUMMARY:Sunflower Springs Business After Hours
DESCRIPTION:Sunflower Springs Lake Wylie Business After Hours
X-ALT-DESC;FMTTYPE=text/html:Sunflower Springs Lake Wylie Business After Hours
LOCATION:267 Latitude Lane Lake Wylie\, SC 29710
UID:e.3033.108
SEQUENCE:3
DTSTAMP:20260423T214724Z
URL:https://members.lakewyliechambersc.com/events/details/sunflower-springs-business-after-hours-108
END:VEVENT

END:VCALENDAR
