BEGIN:VCALENDAR
VERSION:2.0
PRODID:-//ChamberMaster//Event Calendar 2.0//EN
METHOD:PUBLISH
X-PUBLISHED-TTL:P3D
REFRESH-INTERVAL:P3D
CALSCALE:GREGORIAN
BEGIN:VEVENT
DTSTART:20260319T213000Z
DTEND:20260319T233000Z
X-MICROSOFT-CDO-ALLDAYEVENT:FALSE
SUMMARY:United Bank - Lake Wylie & Lake Wylie Liquors Business After Hours
DESCRIPTION:United Bank - Lake Wylie and Lake Wylie Liquors Business After Hours\n\nChamber members bring business cards for door prizes!
X-ALT-DESC;FMTTYPE=text/html:United Bank - Lake Wylie and Lake Wylie Liquors Business After Hours<br />\n<span style="font-size:10.0pt\;">Chamber members bring business cards for door prizes!</span><br />\n&nbsp\;
LOCATION:United Bank - Lake Wylie 5196 Charlotte Hwy Lake Wylie\, SC 29710
UID:e.3033.103
SEQUENCE:3
DTSTAMP:20260419T131950Z
URL:https://members.lakewyliechambersc.com/events/details/united-bank-lake-wylie-lake-wylie-liquors-business-after-hours-103
END:VEVENT

END:VCALENDAR
